BEGIN:VCALENDAR
VERSION:2.0
PRODID:-//LMI-UK - ECPv6.15.20//NONSGML v1.0//EN
CALSCALE:GREGORIAN
METHOD:PUBLISH
X-ORIGINAL-URL:https://lmi-uk.com
X-WR-CALDESC:Events for LMI-UK
REFRESH-INTERVAL;VALUE=DURATION:PT1H
X-Robots-Tag:noindex
X-PUBLISHED-TTL:PT1H
BEGIN:VTIMEZONE
TZID:Europe/London
BEGIN:DAYLIGHT
TZOFFSETFROM:+0000
TZOFFSETTO:+0100
TZNAME:BST
DTSTART:20230326T010000
END:DAYLIGHT
BEGIN:STANDARD
TZOFFSETFROM:+0100
TZOFFSETTO:+0000
TZNAME:GMT
DTSTART:20231029T010000
END:STANDARD
BEGIN:DAYLIGHT
TZOFFSETFROM:+0000
TZOFFSETTO:+0100
TZNAME:BST
DTSTART:20240331T010000
END:DAYLIGHT
BEGIN:STANDARD
TZOFFSETFROM:+0100
TZOFFSETTO:+0000
TZNAME:GMT
DTSTART:20241027T010000
END:STANDARD
BEGIN:DAYLIGHT
TZOFFSETFROM:+0000
TZOFFSETTO:+0100
TZNAME:BST
DTSTART:20250330T010000
END:DAYLIGHT
BEGIN:STANDARD
TZOFFSETFROM:+0100
TZOFFSETTO:+0000
TZNAME:GMT
DTSTART:20251026T010000
END:STANDARD
END:VTIMEZONE
BEGIN:VEVENT
DTSTART;TZID=Europe/London:20240509T090000
DTEND;TZID=Europe/London:20240509T110000
DTSTAMP:20260420T075543
CREATED:20240402T124612Z
LAST-MODIFIED:20240402T124612Z
UID:12362-1715245200-1715252400@lmi-uk.com
SUMMARY:Foundations of Success\, Online Workshop
DESCRIPTION:Give us two hours and we’ll give you back a month at our Foundations Of Success Online Workshop \nImprove your productive use of time by at least 30 minutes per day\, or we refund 100% of your fees! Over a year\, that’s a minimum of an extra month for you to invest in achieving your most important goals. \n“I can honestly say I think what I learned will change my life. I have already started to implement the actions and I find myself completing tasks and strangely having free time too! The LMI Day itself was delivered in a way that was extremely engaging and enjoyable. It was excellent value for money I would recommend to anyone in Business who is serious aboutusing their time more effectively and achieve the goals they want to in life.”\n– Adam Petford\, Owner TheBizLinks \nFoundations of Success is a highly interactive Effective Personal Management & Communication workshop\, with follow up support\, offering ideas designed to help you become more effective on a day to day basis. \nParticipants will be provided with practical planning\, organisation and communication resources that will enable you to put what you have learnt into practice from day 1…and on a continual basis. \n“I was sceptical but wow I am so glad I went. I thought I would get the usual tips and unrealistic suggestions. What I got was a real practical toolkit and a burning desire to review how I work. I feel back in the room and in control of my workload. The day was fast moving\, value for money and a real motivator for change that was realistic for anyone interested in achieving more in the same time. Thank you. New Year here I come… watch out I feel enabled!”\n– Tracey Neuman\, Director Brunswick Healthy Living Centre \nNo more “forgotten after a week” training with this course! \nThis Workshop will help you to: \n\nManage your workload more effectively\nReduce interruptions\nIdentify business AND personal goals\nSet priorities in all areas of life\nCommunicate more effectively\nIncrease your confidence\nIdentify your ‘High Payoff’ activities\nFeel more in control of the working day\nReduce stress\nImprove your work / life balance\nAchieve greater SUCCESS\n\n“Incredibly useful – I have already found that the course has paid for itself after only two weeks\, just by ensuring that my time is better used and I now have goals which I have set  myself that keep me focused during my working day – I would recommend the course to anyone who is looking to improve their business and also themselves.”\n– Richard Hales\, Director Charles Peters Recruitment \nWorkshop Fee: £249 + Vat\nIncludes: \nCourse Workbook / Plan of Action\nCommunication Styles\nPlanning system\nIndividual follow up session to reinforce results and embed new habits \nLMI UK has a standing offer that the first two places for any organisation to attend Foundations of Success are complimentary.\nTo access this discount use the Promo Code VIP_Invite in the registration process. \nFull details here: lmi-uk.com/fos/
URL:https://lmi-uk.com/event/foundations-of-success-online-workshop-12/
LOCATION:Online
CATEGORIES:FOS
ATTACH;FMTTYPE=image/jpeg:https://lmi-uk.com/wp-content/uploads/2023/06/https-__cdn.evbuc_.com_images_110712409_6740707957_1_original.jpg
END:VEVENT
BEGIN:VEVENT
DTSTART;TZID=Europe/London:20240529T090000
DTEND;TZID=Europe/London:20240529T110000
DTSTAMP:20260420T075543
CREATED:20240402T124755Z
LAST-MODIFIED:20240402T124755Z
UID:12365-1716973200-1716980400@lmi-uk.com
SUMMARY:Foundations of Success\, Online Workshop
DESCRIPTION:Give us two hours and we’ll give you back a month at our Foundations Of Success Online Workshop \nImprove your productive use of time by at least 30 minutes per day\, or we refund 100% of your fees! Over a year\, that’s a minimum of an extra month for you to invest in achieving your most important goals. \n“I can honestly say I think what I learned will change my life. I have already started to implement the actions and I find myself completing tasks and strangely having free time too! The LMI Day itself was delivered in a way that was extremely engaging and enjoyable. It was excellent value for money I would recommend to anyone in Business who is serious aboutusing their time more effectively and achieve the goals they want to in life.”\n– Adam Petford\, Owner TheBizLinks \nFoundations of Success is a highly interactive Effective Personal Management & Communication workshop\, with follow up support\, offering ideas designed to help you become more effective on a day to day basis. \nParticipants will be provided with practical planning\, organisation and communication resources that will enable you to put what you have learnt into practice from day 1…and on a continual basis. \n“I was sceptical but wow I am so glad I went. I thought I would get the usual tips and unrealistic suggestions. What I got was a real practical toolkit and a burning desire to review how I work. I feel back in the room and in control of my workload. The day was fast moving\, value for money and a real motivator for change that was realistic for anyone interested in achieving more in the same time. Thank you. New Year here I come… watch out I feel enabled!”\n– Tracey Neuman\, Director Brunswick Healthy Living Centre \nNo more “forgotten after a week” training with this course! \nThis Workshop will help you to: \n\nManage your workload more effectively\nReduce interruptions\nIdentify business AND personal goals\nSet priorities in all areas of life\nCommunicate more effectively\nIncrease your confidence\nIdentify your ‘High Payoff’ activities\nFeel more in control of the working day\nReduce stress\nImprove your work / life balance\nAchieve greater SUCCESS\n\n“Incredibly useful – I have already found that the course has paid for itself after only two weeks\, just by ensuring that my time is better used and I now have goals which I have set  myself that keep me focused during my working day – I would recommend the course to anyone who is looking to improve their business and also themselves.”\n– Richard Hales\, Director Charles Peters Recruitment \nWorkshop Fee: £249 + Vat\nIncludes: \nCourse Workbook / Plan of Action\nCommunication Styles\nPlanning system\nIndividual follow up session to reinforce results and embed new habits \nLMI UK has a standing offer that the first two places for any organisation to attend Foundations of Success are complimentary.\nTo access this discount use the Promo Code VIP_Invite in the registration process. \nFull details here: lmi-uk.com/fos/
URL:https://lmi-uk.com/event/foundations-of-success-online-workshop-13/
LOCATION:Online
CATEGORIES:FOS
ATTACH;FMTTYPE=image/jpeg:https://lmi-uk.com/wp-content/uploads/2023/06/https-__cdn.evbuc_.com_images_110712409_6740707957_1_original.jpg
END:VEVENT
BEGIN:VEVENT
DTSTART;TZID=Europe/London:20240530T090000
DTEND;TZID=Europe/London:20240530T110000
DTSTAMP:20260420T075543
CREATED:20240410T141311Z
LAST-MODIFIED:20240410T141311Z
UID:12387-1717059600-1717066800@lmi-uk.com
SUMMARY:Total Leader Part 1: Effective Personal Productivity (KO Session)
DESCRIPTION:This is the Kick-Off session to the LMI (Leadership Management International) Productivity programme which comprises seven workshops in total.\nUpon registration\, you will contacted by our team to finalise your enrolment.\nN.B. Course fees apply. Details upon registration of interest. \nThe first time any organisation (or individual) buys an LMI programme\, you receive a full money-back guarantee at the half-way stage based on your satisfaction with results so far.\nEffective Personal Productivity will help you in four crucial areas: \nBecome highly organised and effective in your own area of day-to-day responsibility.\nSet and track personal and team goals\, manage priorities and hit project deadlines.\nImprove delegation and communication skills\, ensuring the right work is done the right way by the right people.\nIdentify areas for continual improvement in and outside of work and implement strategies to maintain a healthy\, well-balanced life. \nSeven fortnightly workshops\, 2 hours each\, delivered online\, with tangible\, measureable ROI or your money back. \nEffective Personal Productivity is made up of 6 carefully designed lessons\, each of which opens the door to significant productivity improvements. \n1. What’s productivity?\nFirst\, we help you understand what productivity is and how to benchmark your own personal productivity.\nRecognising the rewards of improving productivity\, we will help you change your attitude to planning and goal-setting\, as well as identifying and utilising high-payoff activities to get more done. \n2. Managing time\nImproving your self-image\, whilst developing personal and organisational goals to maximise time is the focus of the second lesson.\nOnce you understand how the goal-setting process works and the power of written goals\, you will learn to find time to plan and set goals\, as well as learning the power of affirmation and visualisation. \n3. Controlling priorities\nThis lesson will show you how to set priorities in all areas of life to help restore balance. You’ll learn to deal with interruptions\, handle emergencies and drop-in visitors as you become ever more efficient and productive.\nWe’ll also show you how to manage communications and importantly\, you will learn how to say no. \n4. Communicate better\nImproved productivity requires effective communication and we’ll show how to empathise with others\, clarify with questions and listen for the total message.\nYou’ll learn tips for speed reading\, writing for impact and communicating with groups\, whilst using technology efficiently and effectively. \n5. Team empowerment\nFor those with teams to make more productive\, you’ll learn to overcome the fear of change and embrace the benefits of empowerment.\nAgain\, we will explain how to change attitudes and how to develop teams through effective delegation and the different levels available. \n6. Team productivity\nFinally\, you will learn how to create a learning environment\, to help get the most from your team.\nWe’ll show how to instil positive expectancy and demonstrate strategies for training\, combined with efficient procedures to ensure any team will increase productivity. \n“Our Sales Manager was the first to go on this programme and he immediately made some changes which led to significant improvements in performance of the sales team. Since then\, myself and five others from HBT have enrolled on this course. The programme has helped us prioritise\, improve internal communications and has helped me to delegate more effectively so I can focus on the strategic development of the business. I wish we’d done this years ago!” \n– Zamurad Hussain (Managing Director\, HBT Communications) \nSee more client reviews and further details at: https://www.lmi-uk.com/epp-online/
URL:https://lmi-uk.com/event/total-leader-part-1-effective-personal-productivity-ko-session-3/
LOCATION:Online
ATTACH;FMTTYPE=image/png:https://lmi-uk.com/wp-content/uploads/2021/11/EPP.png
END:VEVENT
END:VCALENDAR