BEGIN:VCALENDAR
VERSION:2.0
PRODID:-//LMI-UK - ECPv6.15.20//NONSGML v1.0//EN
CALSCALE:GREGORIAN
METHOD:PUBLISH
X-ORIGINAL-URL:https://lmi-uk.com
X-WR-CALDESC:Events for LMI-UK
REFRESH-INTERVAL;VALUE=DURATION:PT1H
X-Robots-Tag:noindex
X-PUBLISHED-TTL:PT1H
BEGIN:VTIMEZONE
TZID:Europe/London
BEGIN:DAYLIGHT
TZOFFSETFROM:+0000
TZOFFSETTO:+0100
TZNAME:BST
DTSTART:20240331T010000
END:DAYLIGHT
BEGIN:STANDARD
TZOFFSETFROM:+0100
TZOFFSETTO:+0000
TZNAME:GMT
DTSTART:20241027T010000
END:STANDARD
BEGIN:DAYLIGHT
TZOFFSETFROM:+0000
TZOFFSETTO:+0100
TZNAME:BST
DTSTART:20250330T010000
END:DAYLIGHT
BEGIN:STANDARD
TZOFFSETFROM:+0100
TZOFFSETTO:+0000
TZNAME:GMT
DTSTART:20251026T010000
END:STANDARD
BEGIN:DAYLIGHT
TZOFFSETFROM:+0000
TZOFFSETTO:+0100
TZNAME:BST
DTSTART:20260329T010000
END:DAYLIGHT
BEGIN:STANDARD
TZOFFSETFROM:+0100
TZOFFSETTO:+0000
TZNAME:GMT
DTSTART:20261025T010000
END:STANDARD
END:VTIMEZONE
BEGIN:VEVENT
DTSTART;TZID=Europe/London:20250916T090000
DTEND;TZID=Europe/London:20251028T110000
DTSTAMP:20260422T053233
CREATED:20251013T141153Z
LAST-MODIFIED:20251013T141153Z
UID:13637-1758013200-1761649200@lmi-uk.com
SUMMARY:Foundations of Success\, Online Workshop
DESCRIPTION:What would you do with an extra hour per day?  \nImprove your productive use of time by at least 30 minutes per day\, or we refund 100% of your fees! Over a year\, that’s a minimum of an extra month for you to invest in achieving your most important goals. \nFoundations of Success is a Findcourses.co.uk Top 10 Course in both time management and business administration categories. \n \n“I can honestly say I think what I learned will change my life. I have already started to implement the actions and I find myself completing tasks and strangely having free time too! The LMI Day itself was delivered in a way that was extremely engaging and enjoyable. It was excellent value for money I would recommend to anyone in Business who is serious aboutusing their time more effectively and achieve the goals they want to in life.”\n– Adam Petford\, Owner TheBizLinks \nFoundations of Success is a highly interactive Effective Personal Management & Communication workshop\, with follow up support\, offering ideas designed to help you become more effective on a day to day basis. \nParticipants will be provided with practical planning\, organisation and communication resources that will enable you to put what you have learnt into practice from day 1…and on a continual basis. \n“I was sceptical but wow I am so glad I went. I thought I would get the usual tips and unrealistic suggestions. What I got was a real practical toolkit and a burning desire to review how I work. I feel back in the room and in control of my workload. The day was fast moving\, value for money and a real motivator for change that was realistic for anyone interested in achieving more in the same time. Thank you. New Year here I come… watch out I feel enabled!”\n– Tracey Neuman\, Director Brunswick Healthy Living Centre \nNo more “forgotten after a week” training with this course! \nThis Workshop will help you to: \n\nManage your workload more effectively\nReduce interruptions\nIdentify business AND personal goals\nSet priorities in all areas of life\nCommunicate more effectively\nIncrease your confidence\nIdentify your ‘High Payoff’ activities\nFeel more in control of the working day\nReduce stress\nImprove your work / life balance\nAchieve greater SUCCESS\n\n“Incredibly useful – I have already found that the course has paid for itself after only two weeks\, just by ensuring that my time is better used and I now have goals which I have set  myself that keep me focused during my working day – I would recommend the course to anyone who is looking to improve their business and also themselves.”\n– Richard Hales\, Director Charles Peters Recruitment \nWorkshop Fee: £249 + Vat\nIncludes: \nCourse Workbook / Plan of Action\nCommunication Styles\nPlanning system\nIndividual follow up session to reinforce results and embed new habits \nFull details here: lmi-uk.com/fos/
URL:https://lmi-uk.com/event/foundations-of-success-online-workshop-33/
LOCATION:Online
CATEGORIES:FOS
ATTACH;FMTTYPE=image/jpeg:https://lmi-uk.com/wp-content/uploads/2023/06/https-__cdn.evbuc_.com_images_110712409_6740707957_1_original.jpg
END:VEVENT
BEGIN:VEVENT
DTSTART;TZID=Europe/London:20250929T110000
DTEND;TZID=Europe/London:20250929T130000
DTSTAMP:20260422T053233
CREATED:20250722T111753Z
LAST-MODIFIED:20250723T083034Z
UID:13530-1759143600-1759150800@lmi-uk.com
SUMMARY:Effective Coaching & Empowerment (Kick Off session)
DESCRIPTION:This is the Kick-Off session to the LMI (Leadership Management International) Effective Coaching & Empowerment programme which comprises seven fortnightly workshops in total.\nUpon registration\, you will contacted by our team to finalise your enrolment.\nN.B. Course fees apply. Details upon registration of interest. \nThe first time any organisation (or individual) buys an LMI programme\, you receive a full money-back guarantee at the half-way stage based on your satisfaction with results so far. \nAre you looking to develop a culture of empowerment through relationship\, of psychological safety rather than fear of failure…where leaders inspire creativity\, foster innovation\, and develop people’s potential? This is the reality that our Effective Coaching & Empowerment programme can help you achieve. \nThe Effective Coaching and Empowerment programme will equip you with the skills needed to succeed in a position of responsibility\, nurturing talent and enabling you to lead with confidence and purpose. \nThis course is designed to help managers and leaders develop the skills needed to motivate\, inspire\, and empower their team members through effective coaching. \nBy utilising LMI’s unique C.O.A.C.H. process\, you’ll discover how to increase your effectiveness as a leader and create a more empowered\, motivated workforce. For anyone at any level of leadership with responsibility for people\, this programme will equip you with the tools and techniques to become an exceptional empowerer of your team through coaching. \nClick RSVP to register your interest and we’ll contact you to discuss enrolment.
URL:https://lmi-uk.com/event/effective-coaching-empowerment-kick-off-session-6/
LOCATION:Online Event
END:VEVENT
END:VCALENDAR